BEGIN:VCALENDAR
TZID:
BEGIN:VEVENT
CLASS:PUBLIC
CREATED:20260419T182231
DESCRIPTION:<p data-pm-slice="1 1 []"><strong>PINFALL NIGHT – missä keilat kaatuu ja fiilis nousee!</strong></p>\nTervetuloa mukaan vauhdikkaaseen keilailuiltaan! PINFALL NIGHT tarjoaa hyvää seuraa, sopivaa kisailua ja rentoa yhdessäoloa keilaradoilla.\n\nOlitpa tähtäämässä täydelliseen kaatoon tai vain nauttimassa illasta, luvassa on hauska ja energinen ilta hyvällä porukalla. Tarjolla on myös pientä naposteltavaa sekä juotavaa.\n\n<strong>Aika:</strong> 14.05.2026\n<strong>Klo:</strong> 18:00–20:00\n<strong>Paikka:</strong> Mere pst 6 | Bowling Kuulsaal\n\n<strong>Osallistuminen:</strong>\n2 edustajaa jäsenyrityksestä maksutta\n\nPaikkoja on rajoitetusti – varmista osallistumisesi ajoissa!\n\n<strong>Ilmoittautuminen:</strong>\nAlla olevan linkin kautta viimeistään 11.05.2026\n\n<hr />\n\n<strong>PINFALL NIGHT – kus kurikad langevad ja tuju tõuseb!</strong>\n\nTule veeda meiega üks energiline bowlinguõhtu! PINFALL NIGHT pakub head seltskonda, mõnusat võistlusmomenti ja lõõgastavat ajaveetmist bowlinguradadel.\n\nOlenemata sellest, kas sihid täiuslikku striki või naudid lihtsalt õhtut, ees ootab lõbus ja tempokas õhtu heas seltskonnas. Pakume ka kerget suupistet ja jooke.\n\n<strong>Aeg:</strong> 14.05.20256\n<strong>Kell:</strong> 18:00–20:00\n<strong>Koht:</strong> Mere pst 6 | Bowling Kuulsaal\n\n<strong>Osalemine:</strong>\n2 esindajat liikmesettevõttest tasuta\n\nKohtade arv on piiratud – registreeru aegsasti!\n\n<strong>Registreerimine:</strong>\nAlloleva lingi kaudu hiljemalt 11.05.2026
DTEND:20260514T200000Z
DTSTAMP:20260419T182231
DTSTART:20260514T180000
LAST-MODIFIED:20091109T101015
LOCATION:Kesklinna Kuulsaal , Mere pst 6, , , 
SUMMARY;LANGUAGE=en-us:BOWLING NIGHT - 14.05.2026
BEGIN:VALARM
TRIGGER:-PT1440M
ACTION:DISPLAY
DESCRIPTION:Reminder
END:VALARM
END:VEVENT
END:VCALENDAR
